BEGIN:VCALENDAR
VERSION:2.0
PRODID:-//wp-events-plugin.com//7.2.3.1//EN
BEGIN:VEVENT
UID:7594@visitlebanonky.com
DTSTART;TZID=America/Kentucky/Louisville:20250721T180000
DTEND;TZID=America/Kentucky/Louisville:20250725T203000
DTSTAMP:20250512T045413Z
URL:https://visitlebanonky.com/events/vacation-bible-school-7/
SUMMARY:Vacation Bible School
DESCRIPTION:Central Baptist Church at 540 Saint Rose Road\, Lebanon KY will
  be having Vacation Bible School "Magnified" on July 21-25 from 6-8:30 p.m
 . for ages Kindergarten through those who have finished 5th grade. You can
  find the form to enroll on Facebook at https://www.facebook.com/bill.proc
 tor.73\n 
ATTACH;FMTTYPE=image/jpeg:https://visitlebanonky.com/wp-content/uploads/20
 25/05/lebanon-baptist.jpg
CATEGORIES:Community
LOCATION:Central Baptist Church\, 540 Saint Rose Road\, Lebanon\, Kentucky\
 , 40033\, Marion County\, United States
GEO:37.579793;-85.259774
X-APPLE-STRUCTURED-LOCATION;VALUE=URI;X-ADDRESS=540 Saint Rose Road\, Leban
 on\, Kentucky\, 40033\, Marion County\, United States;X-APPLE-RADIUS=100;X
 -TITLE=Central Baptist Church:geo:37.579793,-85.259774
END:VEVENT
BEGIN:VTIMEZONE
TZID:America/Kentucky/Louisville
X-LIC-LOCATION:America/Kentucky/Louisville
BEGIN:DAYLIGHT
DTSTART:20250309T030000
TZOFFSETFROM:-0500
TZOFFSETTO:-0400
TZNAME:EDT
END:DAYLIGHT
END:VTIMEZONE
END:VCALENDAR