BEGIN:VCALENDAR
VERSION:2.0
PRODID:-//wp-events-plugin.com//7.2.3.1//EN
BEGIN:VEVENT
UID:8636@visitlebanonky.com
DTSTART;TZID=America/Kentucky/Louisville:20260228T170000
DTEND;TZID=America/Kentucky/Louisville:20260228T183000
DTSTAMP:20260206T163825Z
URL:https://visitlebanonky.com/events/valentines-dinner/
SUMMARY:Valentine's Dinner - Rescheduled to February 28
DESCRIPTION:Family Fellowship Prayer Center Youth Group will be hosting a 
 “Valentine’s Dinner” on February 28\, 2026.\n\nRSVP\, pay in advance
 \, limited seating. Come out and support Family Fellowship Youth Group. Ca
 sh\, check\, Cash App. If you’d like to make reservations by phone pleas
 e call numbers listed on the flyer. We look forward to serving the communi
 ty a delicious meal hosted by one of the top Catering Companies around. Co
 me out\, support our youth!  
ATTACH;FMTTYPE=image/jpeg:https://visitlebanonky.com/wp-content/uploads/20
 26/01/valentine-e1770395898870.jpg
CATEGORIES:Community
LOCATION:Family Fellowship Prayer Center\, 4625 Short Line Pike\, Lebanon\,
  KY/Marion\, 40033\, Marion County\, United States
X-APPLE-STRUCTURED-LOCATION;VALUE=URI;X-ADDRESS=4625 Short Line Pike\, Leba
 non\, KY/Marion\, 40033\, Marion County\, United States;X-APPLE-RADIUS=100
 ;X-TITLE=Family Fellowship Prayer Center:geo:0,0
END:VEVENT
BEGIN:VTIMEZONE
TZID:America/Kentucky/Louisville
X-LIC-LOCATION:America/Kentucky/Louisville
BEGIN:STANDARD
DTSTART:20251102T010000
TZOFFSETFROM:-0400
TZOFFSETTO:-0500
TZNAME:EST
END:STANDARD
END:VTIMEZONE
END:VCALENDAR