BEGIN:VCALENDAR
VERSION:2.0
PRODID:-//wp-events-plugin.com//7.2.3.1//EN
BEGIN:VEVENT
UID:8249@visitlebanonky.com
DTSTART;TZID=America/Kentucky/Louisville:20251109T140000
DTEND;TZID=America/Kentucky/Louisville:20251109T153000
DTSTAMP:20251105T232017Z
URL:https://visitlebanonky.com/events/veterans-day-ceremony-2/
SUMMARY:Veterans Day Ceremony
DESCRIPTION:Lebanon Veterans Day Ceremony Relocated\nDue to the ongoing gov
 ernment shutdown\, the Lebanon Veterans Day Ceremony originally scheduled 
 for Sunday\, November 9\, 2025\, at 2:00 PM at the Lebanon National Cemete
 ry has been moved. The ceremony will now take place at the Veterans of For
 eign Wars Post 5910\, located at 101 Veterans Drive in Lebanon\, Kentucky.
  The public is invited to attend and honor our local veterans at this new 
 location.
ATTACH;FMTTYPE=image/jpeg:https://visitlebanonky.com/wp-content/uploads/20
 25/11/veterans-day.jpg
CATEGORIES:Community
LOCATION:VFW Post 5910\, 101 Veterans Drive\, Lebanon\, Kentucky\, 40033\, 
 Marion County\, United States
GEO:37.568294;-85.257504
X-APPLE-STRUCTURED-LOCATION;VALUE=URI;X-ADDRESS=101 Veterans Drive\, Lebano
 n\, Kentucky\, 40033\, Marion County\, United States;X-APPLE-RADIUS=100;X-
 TITLE=VFW Post 5910:geo:37.568294,-85.257504
END:VEVENT
BEGIN:VTIMEZONE
TZID:America/Kentucky/Louisville
X-LIC-LOCATION:America/Kentucky/Louisville
BEGIN:STANDARD
DTSTART:20251102T010000
TZOFFSETFROM:-0400
TZOFFSETTO:-0500
TZNAME:EST
END:STANDARD
END:VTIMEZONE
END:VCALENDAR