BEGIN:VCALENDAR
VERSION:2.0
PRODID:-//wp-events-plugin.com//7.2.3.1//EN
BEGIN:VEVENT
UID:8175@visitlebanonky.com
DTSTART;TZID=America/Kentucky/Louisville:20251111T130000
DTEND;TZID=America/Kentucky/Louisville:20251111T141500
DTSTAMP:20251029T005348Z
URL:https://visitlebanonky.com/events/veterans-day-ceremony/
SUMMARY:Veterans Day Ceremony
DESCRIPTION:Veterans Day Ceremony and Wreaths Across America Sponsorship Ne
 eded\n\nA Veterans Day ceremony will be held on Tuesday\, November 11th at
  1:00 p.m. at Marion County High School. The community is invited to atten
 d and honor those who have served our nation.\nAs part of this year’s ob
 servance\, the Kentucky Vietnam Traveling Wall will be on display inside t
 he Roby Dome both before and after the ceremony\, offering visitors a powe
 rful and personal way to pay tribute to those who made the ultimate sacrif
 ice.\nIn addition to the ceremony\, there is an urgent call for support of
  Wreaths Across America.  The program ensures that every veteran laid to r
 est at the Lebanon National Cemetery is remembered with a wreath during th
 e holiday season.\nCurrently\, more than 4\,500 veterans are interred at t
 he cemetery\, but only 379 wreaths have been sponsored.  Each wreath costs
  $17\, and sponsors are needed to help close the gap.\nCommunity members c
 an sponsor a wreath online or contact 1SG (R) Philip Chatigny\, Senior Arm
 y Instructor at Marion County High School\, for more information.\n📞 Ph
 one: 270-692-6066 ext. 21140\n📧 Email: philip.chatigny@marion.kyschools
 .us\n📍 Address: 735 E. Main St.\, Lebanon\, KY 40033\nAs 1SG Chatigny r
 eminds us\, “Prior Planning Prevents Poor Performance.” Your support w
 ill help ensure every veteran at Lebanon National Cemetery is honored this
  December.
ATTACH;FMTTYPE=image/jpeg:https://visitlebanonky.com/wp-content/uploads/20
 25/10/veterans-day.jpg
CATEGORIES:Community
LOCATION:Marion County High School\, 735 E. Main St.\, Lebanon\, KY/ Marion
 \, 40033\, Marion County\, United States
X-APPLE-STRUCTURED-LOCATION;VALUE=URI;X-ADDRESS=735 E. Main St.\, Lebanon\,
  KY/ Marion\, 40033\, Marion County\, United States;X-APPLE-RADIUS=100;X-T
 ITLE=Marion County High School:geo:0,0
END:VEVENT
BEGIN:VTIMEZONE
TZID:America/Kentucky/Louisville
X-LIC-LOCATION:America/Kentucky/Louisville
BEGIN:STANDARD
DTSTART:20251102T010000
TZOFFSETFROM:-0400
TZOFFSETTO:-0500
TZNAME:EST
END:STANDARD
END:VTIMEZONE
END:VCALENDAR