BEGIN:VCALENDAR
VERSION:2.0
PRODID:-//wp-events-plugin.com//7.2.3.1//EN
BEGIN:VEVENT
UID:5968@visitlebanonky.com
DTSTART;TZID=America/Kentucky/Louisville:20240806T130000
DTEND;TZID=America/Kentucky/Louisville:20240806T153000
DTSTAMP:20240805T183111Z
URL:https://visitlebanonky.com/events/virtual-job-fair/
SUMMARY:Virtual Job Fair
DESCRIPTION:From the event page on Facebook at https://fb.me/e/3M39vjGR3\n\
 nKentucky Career Center-Lincoln Trail will be hosting a virtual job fair o
 n August 6. If you're looking for a job\, let's talk! Multiple jobs are op
 en in a variety of industries. The virtual job fair will take place from 1
  - 3:30 p.m. Registration is required for all job seekers at https://app.p
 remiervirtual.com/.../kentucky.../attendee. Please be prepared to upload a
  pdf of your resume. If you need help\, send us a message.\nIf you are an 
 employer in Breckinridge\, LaRue\, Marion\, Hardin\, Meade\, Nelson\, Gray
 son or Washington county and have positions to fill\, email Cathy@workforc
 einit.com to set up a virtual job fair booth. There is no cost to particip
 ate! Also\, be sure to share our Facebook posts to let job seekers know th
 at your are participating in the job fair.\nVirtual job fairs take place t
 he first and third Tuesday of every month. Check our event calendar at www
 .ltcareercenter.org for more information.\nThis is an online job fair for 
 jobs located in the Lincoln Trail area.\nProgram is funded with Workforce 
 Innovation and Opportunity Act Title I funds through the Kentucky Educatio
 n and Labor Cabinet and the Lincoln Trail Workforce Development Board. The
  Lincoln Trail Workforce Development Board assures compliance with the Edu
 cation and Labor Cabinet’s Method’s of Administration\, as amended\, N
 ondiscrimination and Equal Opportunity Assurance and all other Nondiscrimi
 nation and Equal Opportunity requirements of WIOA.
ATTACH;FMTTYPE=image/jpeg:https://visitlebanonky.com/wp-content/uploads/20
 24/08/job-fair.jpg
CATEGORIES:Community
END:VEVENT
BEGIN:VTIMEZONE
TZID:America/Kentucky/Louisville
X-LIC-LOCATION:America/Kentucky/Louisville
BEGIN:DAYLIGHT
DTSTART:20240310T030000
TZOFFSETFROM:-0500
TZOFFSETTO:-0400
TZNAME:EDT
END:DAYLIGHT
END:VTIMEZONE
END:VCALENDAR