BEGIN:VCALENDAR
VERSION:2.0
PRODID:-//wp-events-plugin.com//7.2.3.1//EN
BEGIN:VEVENT
UID:8333@visitlebanonky.com
DTSTART;TZID=America/Kentucky/Louisville:20251126T100000
DTEND;TZID=America/Kentucky/Louisville:20251126T160000
DTSTAMP:20251118T192900Z
URL:https://visitlebanonky.com/events/volleyball-clinic/
SUMMARY:Volleyball Clinic
DESCRIPTION:For any high school boy interested in playing for MCHS\, Coach 
 Thomas & Coach Beckham will be hosting a learning clinic to teach some bas
 ic skills. See the flyer for details. It should be fun!
ATTACH;FMTTYPE=image/jpeg:https://visitlebanonky.com/wp-content/uploads/20
 25/11/volleyball.jpg
CATEGORIES:Community
LOCATION:MCHS Robey Dome\, 735 East Main Street\, Lebanon\, Kentucky\, 4003
 3\, Marion County\, United States
GEO:37.576944;-85.226257
X-APPLE-STRUCTURED-LOCATION;VALUE=URI;X-ADDRESS=735 East Main Street\, Leba
 non\, Kentucky\, 40033\, Marion County\, United States;X-APPLE-RADIUS=100;
 X-TITLE=MCHS Robey Dome:geo:37.576944,-85.226257
END:VEVENT
BEGIN:VTIMEZONE
TZID:America/Kentucky/Louisville
X-LIC-LOCATION:America/Kentucky/Louisville
BEGIN:STANDARD
DTSTART:20251102T010000
TZOFFSETFROM:-0400
TZOFFSETTO:-0500
TZNAME:EST
END:STANDARD
END:VTIMEZONE
END:VCALENDAR