BEGIN:VCALENDAR
VERSION:2.0
PRODID:-//wp-events-plugin.com//7.2.3.1//EN
BEGIN:VEVENT
UID:8630@visitlebanonky.com
DTSTART;TZID=America/Kentucky/Louisville:20260226T180000
DTEND;TZID=America/Kentucky/Louisville:20260226T200000
DTSTAMP:20260113T195753Z
URL:https://visitlebanonky.com/events/volleyball-league-meeting/
SUMMARY:Volleyball League Meeting
DESCRIPTION:Who's Ready for the next MCECS Volleyball League?\nThe MCECS wi
 ll be hosting our next Co-Ed Volleyball League starting with an Orientatio
 n & Open Play on Thursday February 26th at 6:00 pm at the Event Center. Br
 ing Your Team or Sign Up as an Individual. There are only 8 Team spots ava
 ilable\, so if you're interested sign up as quick. \n*Membership or day pa
 ss required to participate.\nFind the MCECS on Facebook HERE
ATTACH;FMTTYPE=image/jpeg:https://visitlebanonky.com/wp-content/uploads/20
 26/01/volleyball.jpg
CATEGORIES:Community
LOCATION:Marion County Event Center and Sportsplex\, 101 Independence Drive
  \, LEBANON\, KY\, 40033\, Marion County\, United States
X-APPLE-STRUCTURED-LOCATION;VALUE=URI;X-ADDRESS=101 Independence Drive \, L
 EBANON\, KY\, 40033\, Marion County\, United States;X-APPLE-RADIUS=100;X-T
 ITLE=Marion County Event Center and Sportsplex:geo:0,0
END:VEVENT
BEGIN:VTIMEZONE
TZID:America/Kentucky/Louisville
X-LIC-LOCATION:America/Kentucky/Louisville
BEGIN:STANDARD
DTSTART:20251102T010000
TZOFFSETFROM:-0400
TZOFFSETTO:-0500
TZNAME:EST
END:STANDARD
END:VTIMEZONE
END:VCALENDAR