BEGIN:VCALENDAR
VERSION:2.0
PRODID:-//wp-events-plugin.com//7.2.3.1//EN
BEGIN:VEVENT
UID:6711@visitlebanonky.com
DTSTART;TZID=America/Kentucky/Louisville:20250124T123000
DTEND;TZID=America/Kentucky/Louisville:20250124T133000
DTSTAMP:20250107T191813Z
URL:https://visitlebanonky.com/events/walking-challenge-kick-off-meeting/
SUMMARY:Walking Challenge Kick off Meeting - New Date
DESCRIPTION:The program is designed to meet at least three times per the 12
 -week session. The first session will give participants information about 
 the program\, the middle session will be a check in\, and the final sessio
 n the participants will get an evaluation about the program. Each week the
  participants will receive a newsletter to help keep them motivated which 
 will also include healthy eating recipes. On the first session\, the parti
 cipants will also receive a walking log and sample schedule. The participa
 nt with the most miles or steps logged will win a gift certificate to Leba
 non Health and Fitness.  
ATTACH;FMTTYPE=image/jpeg:https://visitlebanonky.com/wp-content/uploads/20
 24/12/walk-challenge.jpg
CATEGORIES:Community
LOCATION:Marion County Cooperative Extension Office\, 416 Fairgrounds Road\
 , Lebanon\, KY/Marion\, 40033\, United States
X-APPLE-STRUCTURED-LOCATION;VALUE=URI;X-ADDRESS=416 Fairgrounds Road\, Leba
 non\, KY/Marion\, 40033\, United States;X-APPLE-RADIUS=100;X-TITLE=Marion 
 County Cooperative Extension Office:geo:0,0
END:VEVENT
BEGIN:VTIMEZONE
TZID:America/Kentucky/Louisville
X-LIC-LOCATION:America/Kentucky/Louisville
BEGIN:STANDARD
DTSTART:20241103T010000
TZOFFSETFROM:-0400
TZOFFSETTO:-0500
TZNAME:EST
END:STANDARD
END:VTIMEZONE
END:VCALENDAR