BEGIN:VCALENDAR
VERSION:2.0
PRODID:-//wp-events-plugin.com//7.2.3.1//EN
BEGIN:VEVENT
UID:8103@visitlebanonky.com
DTSTART;TZID=America/Kentucky/Louisville:20251017T000000
DTEND;TZID=America/Kentucky/Louisville:20251017T000000
DTSTAMP:20251013T173500Z
URL:https://visitlebanonky.com/events/walmart-ribbon-cutting/
SUMMARY:Walmart Ribbon Cutting
DESCRIPTION:Join us Friday\, October 17 at 9 a.m. as we celebrate the newly
  renovated  Walmart Lebanon - Campbellsville Road.\nWe’ll kick things of
 f with a Ribbon Cutting Ceremony followed by an Open House. Come check out
  all the exciting updates and improvements inside the store.\n 
ATTACH;FMTTYPE=image/jpeg:https://visitlebanonky.com/wp-content/uploads/20
 25/10/walmart-ribbon-cutting.jpg
CATEGORIES:Community
LOCATION:Walmart\, 2136 Campbellsville Road\, Lebanon\, Kentucky\, 40033\, 
 Marion County\, United States
GEO:37.553207;-85.28386
X-APPLE-STRUCTURED-LOCATION;VALUE=URI;X-ADDRESS=2136 Campbellsville Road\, 
 Lebanon\, Kentucky\, 40033\, Marion County\, United States;X-APPLE-RADIUS=
 100;X-TITLE=Walmart:geo:37.553207,-85.28386
END:VEVENT
BEGIN:VTIMEZONE
TZID:America/Kentucky/Louisville
X-LIC-LOCATION:America/Kentucky/Louisville
BEGIN:DAYLIGHT
DTSTART:20250309T030000
TZOFFSETFROM:-0500
TZOFFSETTO:-0400
TZNAME:EDT
END:DAYLIGHT
END:VTIMEZONE
END:VCALENDAR