BEGIN:VCALENDAR
VERSION:2.0
PRODID:-//wp-events-plugin.com//7.2.3.1//EN
BEGIN:VEVENT
UID:8695@visitlebanonky.com
DTSTART;TZID=America/Kentucky/Louisville:20260221T140000
DTEND;TZID=America/Kentucky/Louisville:20260221T180000
DTSTAMP:20260202T231522Z
URL:https://visitlebanonky.com/events/wanda-taylor-wright-benefit/
SUMMARY:Wanda Taylor - Wright Benefit
DESCRIPTION:From the family: Trust…this is not something that she WANTS t
 o do but it must be done. When I first mentioned a fundraiser to her when 
 she was diagnosed with breast cancer in both breasts last August\, my Moth
 er immediately shot down the idea. 2 weeks after her diagnosis she began a
 ggressive chemotherapy and has been unable to work since. Every symptom\, 
 sickness\, etc of chemotherapy that one could endure has happened to her. 
 She has not worked since her chemo started and medical bills and other exp
 enses have become overwhelming. She’s not used to asking for help but I 
 want her to know that this is ok. Being a nurse\, she’s always had a nur
 turing spirit\, always kind\, and truly someone special. My mother has ALW
 AYS showed up as a wife\, mother\, nana\, sister\, aunt\, friend\, and to 
 the many patients that she’s cared for over the years. Now I am asking f
 or us to show up and show out for her!! Come out and help support! If you 
 want to donate\, please let us know. Lastly\, we are also asking for praye
 rs. Cancer can take a mental\, physical and emotional toll on a person and
  their families. She still has a way to go but she’s THE strongest woman
  I know!
ATTACH;FMTTYPE=image/jpeg:https://visitlebanonky.com/wp-content/uploads/20
 26/02/wright-benefit.jpg
CATEGORIES:Community
LOCATION:Donna Fayes Kitchen\, 201 N Depot St\, Lebanon\, Kentucky\, 40033\
 , Marion County\, United States
GEO:37.569907;-85.257653
X-APPLE-STRUCTURED-LOCATION;VALUE=URI;X-ADDRESS=201 N Depot St\, Lebanon\, 
 Kentucky\, 40033\, Marion County\, United States;X-APPLE-RADIUS=100;X-TITL
 E=Donna Fayes Kitchen:geo:37.569907,-85.257653
END:VEVENT
BEGIN:VTIMEZONE
TZID:America/Kentucky/Louisville
X-LIC-LOCATION:America/Kentucky/Louisville
BEGIN:STANDARD
DTSTART:20251102T010000
TZOFFSETFROM:-0400
TZOFFSETTO:-0500
TZNAME:EST
END:STANDARD
END:VTIMEZONE
END:VCALENDAR