BEGIN:VCALENDAR
VERSION:2.0
PRODID:-//wp-events-plugin.com//7.2.3.1//EN
BEGIN:VEVENT
UID:8948@visitlebanonky.com
DTSTART;TZID=America/Kentucky/Louisville:20260307T000000
DTEND;TZID=America/Kentucky/Louisville:20260307T000000
DTSTAMP:20260306T172619Z
URL:https://visitlebanonky.com/events/watered-down-whiskey-at-cozy-corner/
SUMMARY:The Watered Down Whiskey Boys at Cozy Corner
DESCRIPTION:Follow Cozy Corner on Facebook HERE . The Watered Down Whiskey 
 boys are making their debut at the Cozy Corner in Loretto\, Ky from 9 p.m.
  till 1 a.m. Come on out for a night of partying and rocking out to great 
 country and rock.\nNow under new management.
ATTACH;FMTTYPE=image/jpeg:https://visitlebanonky.com/wp-content/uploads/20
 26/03/WATERED-DOWN-WHISKEY.jpg
CATEGORIES:Community
LOCATION:Cozy Corner Restaurant\, 4950 Highway 52\, Loretto\, KY/Marion\, 4
 0037\, Marion County\, United States
X-APPLE-STRUCTURED-LOCATION;VALUE=URI;X-ADDRESS=4950 Highway 52\, Loretto\,
  KY/Marion\, 40037\, Marion County\, United States;X-APPLE-RADIUS=100;X-TI
 TLE=Cozy Corner Restaurant:geo:0,0
END:VEVENT
BEGIN:VTIMEZONE
TZID:America/Kentucky/Louisville
X-LIC-LOCATION:America/Kentucky/Louisville
BEGIN:STANDARD
DTSTART:20251102T010000
TZOFFSETFROM:-0400
TZOFFSETTO:-0500
TZNAME:EST
END:STANDARD
END:VTIMEZONE
END:VCALENDAR