BEGIN:VCALENDAR
VERSION:2.0
PRODID:-//wp-events-plugin.com//7.2.3.1//EN
BEGIN:VEVENT
UID:8135@visitlebanonky.com
DTSTART;TZID=America/Kentucky/Louisville:20251114T180000
DTEND;TZID=America/Kentucky/Louisville:20251114T200000
DTSTAMP:20251016T180417Z
URL:https://visitlebanonky.com/events/west-marion-elementary-school-fall-f
 estival/
SUMMARY:West Marion Elementary School Fall Festival
DESCRIPTION:From the event page on Facebook at https://www.facebook.com/sha
 re/1CmvwByzch/\n🍁 Mark your calendar for family fun!\nWMES will host th
 e annual fall festival on November 14th from 6-8pm.\nWarm up with a chili 
 or hot dog meal\, enjoy the games\, win a cake at the cake wheel\, bid on 
 amazing silent auction items\, and don’t forget to stop at the book fair
 !\nLooking to volunteer or donate? Please contact us! 
ATTACH;FMTTYPE=image/jpeg:https://visitlebanonky.com/wp-content/uploads/20
 25/10/wmes.jpg
CATEGORIES:Community
LOCATION:West Marion Elementary School\, 8175 N Loretto Rd\, Loretto\, KY\,
  40037\, Marion County\, United States
X-APPLE-STRUCTURED-LOCATION;VALUE=URI;X-ADDRESS=8175 N Loretto Rd\, Loretto
 \, KY\, 40037\, Marion County\, United States;X-APPLE-RADIUS=100;X-TITLE=W
 est Marion Elementary School:geo:0,0
END:VEVENT
BEGIN:VTIMEZONE
TZID:America/Kentucky/Louisville
X-LIC-LOCATION:America/Kentucky/Louisville
BEGIN:STANDARD
DTSTART:20251102T010000
TZOFFSETFROM:-0400
TZOFFSETTO:-0500
TZNAME:EST
END:STANDARD
END:VTIMEZONE
END:VCALENDAR