BEGIN:VCALENDAR
VERSION:2.0
PRODID:-//wp-events-plugin.com//7.2.3.1//EN
BEGIN:VEVENT
UID:8898@visitlebanonky.com
DTSTART;TZID=America/Kentucky/Louisville:20260609T090000
DTEND;TZID=America/Kentucky/Louisville:20260612T150000
DTSTAMP:20260228T195756Z
URL:https://visitlebanonky.com/events/where-the-wild-things-are-day-camp-r
 egistration-now-open/
SUMMARY:Where the Wild Things Are Day Camp - Registration now open
DESCRIPTION:Have you registered your little one(s) for "Where the Wild Thin
 gs Are" Day Camp? 🤔\nYou don't want your 6 to 12-year-olds to miss out 
 on this unique collaboration between New Pioneers and the Loretto Communit
 y\, set for Tuesday\, June 9th\, through Friday\, June 12th\, from 9:00 am
  to 3:00 pm each day. 🤩👏\nActivities include a refreshed lineup of h
 iking\, creating natural art\, playing educational nature games\, birding\
 , scavenger hunts\, observing nature\, wagon rides\, supervised free play\
 , and more! 🍁🎨🔍\nLearn more and register HERE You can find this e
 vent on Facebook HERE  
ATTACH;FMTTYPE=image/jpeg:https://visitlebanonky.com/wp-content/uploads/20
 26/02/where-the-wild-things-are.jpg
CATEGORIES:Community
LOCATION:Loretto Motherhouse Farm\, 515 Nerinx Road\, Nerinx\, KY\, 40049\,
  United States
X-APPLE-STRUCTURED-LOCATION;VALUE=URI;X-ADDRESS=515 Nerinx Road\, Nerinx\, 
 KY\, 40049\, United States;X-APPLE-RADIUS=100;X-TITLE=Loretto Motherhouse 
 Farm:geo:0,0
END:VEVENT
BEGIN:VTIMEZONE
TZID:America/Kentucky/Louisville
X-LIC-LOCATION:America/Kentucky/Louisville
BEGIN:DAYLIGHT
DTSTART:20260308T030000
TZOFFSETFROM:-0500
TZOFFSETTO:-0400
TZNAME:EDT
END:DAYLIGHT
END:VTIMEZONE
END:VCALENDAR