BEGIN:VCALENDAR
VERSION:2.0
PRODID:-//wp-events-plugin.com//7.2.3.1//EN
BEGIN:VEVENT
UID:8666@visitlebanonky.com
DTSTART;TZID=America/Kentucky/Louisville:20260221T170000
DTEND;TZID=America/Kentucky/Louisville:20260221T230000
DTSTAMP:20260123T014757Z
URL:https://visitlebanonky.com/events/wild-winter-social/
SUMMARY:Wild Winter Social
DESCRIPTION:
ATTACH;FMTTYPE=image/jpeg:https://visitlebanonky.com/wp-content/uploads/20
 26/01/winter-social.jpg
CATEGORIES:Community
LOCATION:Loretto City Hall\, 72 School Drive\, Loretto\, Kentucky\, 40037\,
  Marion County\, United States
GEO:37.63671;-85.405202
X-APPLE-STRUCTURED-LOCATION;VALUE=URI;X-ADDRESS=72 School Drive\, Loretto\,
  Kentucky\, 40037\, Marion County\, United States;X-APPLE-RADIUS=100;X-TIT
 LE=Loretto City Hall:geo:37.63671,-85.405202
END:VEVENT
BEGIN:VTIMEZONE
TZID:America/Kentucky/Louisville
X-LIC-LOCATION:America/Kentucky/Louisville
BEGIN:STANDARD
DTSTART:20251102T010000
TZOFFSETFROM:-0400
TZOFFSETTO:-0500
TZNAME:EST
END:STANDARD
END:VTIMEZONE
END:VCALENDAR