BEGIN:VCALENDAR
VERSION:2.0
PRODID:-//wp-events-plugin.com//7.2.3.1//EN
BEGIN:VEVENT
UID:7631@visitlebanonky.com
DTSTART;TZID=America/Kentucky/Louisville:20250530T120000
DTEND;TZID=America/Kentucky/Louisville:20250530T130000
DTSTAMP:20250529T050455Z
URL:https://visitlebanonky.com/events/wildstang-winery-ribbon-cutting-2/
SUMMARY:Wildstang Winery Ribbon Cutting
DESCRIPTION:🎉 THIS FRIDAY!! You're Invited to a Ribbon Cutting Celebrati
 on! 🍷\nJoin us as we welcome Wildstang Winery to the community with a r
 ibbon cutting celebration!\n📍 Location: 137 A. Mills Rd\, Loretto\, KY 
 40037\n📅 Date: Friday\, May 30th (Rescheduled Date)\n🕛 Time: 12:00 P
 M\nWe’re thrilled to celebrate this exciting new addition to Marion Coun
 ty. Come out\, show your support\, and help us give Wildstang Winery a war
 m welcome!
ATTACH;FMTTYPE=image/jpeg:https://visitlebanonky.com/wp-content/uploads/20
 25/05/winery.jpg
CATEGORIES:Official
LOCATION:Wildstang Winery\, 137 A Mills Road\, Loretto\, Kentucky\, 40037\,
  Marion County\, United States
GEO:37.652688;-85.394596
X-APPLE-STRUCTURED-LOCATION;VALUE=URI;X-ADDRESS=137 A Mills Road\, Loretto\
 , Kentucky\, 40037\, Marion County\, United States;X-APPLE-RADIUS=100;X-TI
 TLE=Wildstang Winery:geo:37.652688,-85.394596
END:VEVENT
BEGIN:VTIMEZONE
TZID:America/Kentucky/Louisville
X-LIC-LOCATION:America/Kentucky/Louisville
BEGIN:DAYLIGHT
DTSTART:20250309T030000
TZOFFSETFROM:-0500
TZOFFSETTO:-0400
TZNAME:EDT
END:DAYLIGHT
END:VTIMEZONE
END:VCALENDAR