BEGIN:VCALENDAR
VERSION:2.0
PRODID:-//wp-events-plugin.com//7.2.3.1//EN
BEGIN:VEVENT
UID:7596@visitlebanonky.com
DTSTART;TZID=America/Kentucky/Louisville:20250516T130000
DTEND;TZID=America/Kentucky/Louisville:20250516T140000
DTSTAMP:20250516T175408Z
URL:https://visitlebanonky.com/events/wildstang-winery-ribbon-cutting/
SUMMARY:Wildstang Winery Ribbon Cutting - CANCELLED DUE TO WEATHER
DESCRIPTION:From the Marion County Chamber of Commerce page at https://www.
 facebook.com/mckychamber\n🎉🍷 You're Invited! 🍷🎉\nCome join us 
 for the Ribbon Cutting Celebration of Wildstang Winery!\n📍 137 A. Mills
  Rd\, Loretto\, Ky\, 40037\n📅 Friday\, May 16th\n🕐 1:00 PM\nWe're th
 rilled to welcome this amazing new winery to our community. Come out\, sho
 w your support\, and help us give Wildstang Winery a warm Marion County we
 lcome! 
ATTACH;FMTTYPE=image/jpeg:https://visitlebanonky.com/wp-content/uploads/20
 25/05/wildstang.jpg
CATEGORIES:Official
LOCATION:Wildstang Winery\, 137 A Mills Road\, Loretto\, Kentucky\, 40037\,
  Marion County\, United States
GEO:37.652688;-85.394596
X-APPLE-STRUCTURED-LOCATION;VALUE=URI;X-ADDRESS=137 A Mills Road\, Loretto\
 , Kentucky\, 40037\, Marion County\, United States;X-APPLE-RADIUS=100;X-TI
 TLE=Wildstang Winery:geo:37.652688,-85.394596
END:VEVENT
BEGIN:VTIMEZONE
TZID:America/Kentucky/Louisville
X-LIC-LOCATION:America/Kentucky/Louisville
BEGIN:DAYLIGHT
DTSTART:20250309T030000
TZOFFSETFROM:-0500
TZOFFSETTO:-0400
TZNAME:EDT
END:DAYLIGHT
END:VTIMEZONE
END:VCALENDAR