BEGIN:VCALENDAR
VERSION:2.0
PRODID:-//wp-events-plugin.com//7.2.3.1//EN
BEGIN:VEVENT
UID:8339@visitlebanonky.com
DTSTART;TZID=America/Kentucky/Louisville:20251218T180000
DTEND;TZID=America/Kentucky/Louisville:20251218T200000
DTSTAMP:20251118T200605Z
URL:https://visitlebanonky.com/events/winter-wreath-making-workshops-4/
SUMMARY:Winter Wreath Making Workshops
DESCRIPTION:You can follow the Marion County Cooperative Extension Office o
 n Facebook for this and other events HERE
ATTACH;FMTTYPE=image/jpeg:https://visitlebanonky.com/wp-content/uploads/20
 25/11/wreath-making.jpg
CATEGORIES:Community
LOCATION:Marion County Cooperative Extension Office\, 416 Fairgrounds Road\
 , Lebanon\, KY/Marion\, 40033\, United States
X-APPLE-STRUCTURED-LOCATION;VALUE=URI;X-ADDRESS=416 Fairgrounds Road\, Leba
 non\, KY/Marion\, 40033\, United States;X-APPLE-RADIUS=100;X-TITLE=Marion 
 County Cooperative Extension Office:geo:0,0
END:VEVENT
BEGIN:VTIMEZONE
TZID:America/Kentucky/Louisville
X-LIC-LOCATION:America/Kentucky/Louisville
BEGIN:STANDARD
DTSTART:20251102T010000
TZOFFSETFROM:-0400
TZOFFSETTO:-0500
TZNAME:EST
END:STANDARD
END:VTIMEZONE
END:VCALENDAR