BEGIN:VCALENDAR
VERSION:2.0
PRODID:-//wp-events-plugin.com//7.2.3.1//EN
BEGIN:VEVENT
UID:6289@visitlebanonky.com
DTSTART;TZID=America/Kentucky/Louisville:20241102T093000
DTEND;TZID=America/Kentucky/Louisville:20241102T130000
DTSTAMP:20241017T211736Z
URL:https://visitlebanonky.com/events/womens-conference/
SUMMARY:Women's Conference
DESCRIPTION:Women's Conference 2024 \n\nLadies\, let's come together\, wors
 hip and fellowship! Join us this fall as we hear God's Word through dynami
 c speakers and wonderful worship! It's completely FREE! Doors will open at
  9 a.m. and there will be an amazing meal provided!\n 
ATTACH;FMTTYPE=image/jpeg:https://visitlebanonky.com/wp-content/uploads/20
 24/10/womens-conference.jpg
CATEGORIES:Community
LOCATION:Open Arms Community Church\, 2205 Danville Rd.\, Lebanon\, Kentuck
 y\, 40033\, Marion County\, United States
GEO:37.578429;-85.212781
X-APPLE-STRUCTURED-LOCATION;VALUE=URI;X-ADDRESS=2205 Danville Rd.\, Lebanon
 \, Kentucky\, 40033\, Marion County\, United States;X-APPLE-RADIUS=100;X-T
 ITLE=Open Arms Community Church:geo:37.578429,-85.212781
END:VEVENT
BEGIN:VTIMEZONE
TZID:America/Kentucky/Louisville
X-LIC-LOCATION:America/Kentucky/Louisville
BEGIN:DAYLIGHT
DTSTART:20240310T030000
TZOFFSETFROM:-0500
TZOFFSETTO:-0400
TZNAME:EDT
END:DAYLIGHT
END:VTIMEZONE
END:VCALENDAR