BEGIN:VCALENDAR
VERSION:2.0
PRODID:-//wp-events-plugin.com//7.2.3.1//EN
BEGIN:VEVENT
UID:8868@visitlebanonky.com
DTSTART;TZID=America/Kentucky/Louisville:20260326T180000
DTEND;TZID=America/Kentucky/Louisville:20260326T200000
DTSTAMP:20260228T192842Z
URL:https://visitlebanonky.com/events/womens-empower-dinner-gala-advance-r
 eservations-required/
SUMMARY:Women's Empower Dinner Gala- Advance reservations required
DESCRIPTION:✨Save the Date!✨\nThe Marion County Chamber of Commerce is 
 excited to bring back the Women’s Empower Dinner Gala in 2026!\n📅 Mar
 ch 26\, 2026\n📍 Venue 68\n🕕 6:00 PM – 8:00 PM\nJoin us for an insp
 iring evening where women from across our community can come together to c
 elebrate accomplishments\, connections\, and empowerment! 💐💛\n🌟 S
 ponsorship opportunities are NOW available!\nMessage the Chamber office fo
 r more information:\n📞 270-692-9594\n📧 info@marioncountykychamber.co
 m\nWe can’t wait to celebrate you!✨\n\nAward nominations are officiall
 y OPEN!\nHelp us celebrate the incredible women in our community by submit
 ting a nomination for:\n• 2026 Woman of the Year\n• 2026 Young Woman o
 f the Year\n• 2026 Golden Heart Award\nAll nominees will be recognized a
 t this year’s gala — so take a moment to honor someone who inspires\, 
 leads\, serves\, and makes a difference!\nNominate HERE\nAll nominations a
 re due by March 13.\n\n \n\n
ATTACH;FMTTYPE=image/jpeg:https://visitlebanonky.com/wp-content/uploads/20
 26/02/empower.jpg
CATEGORIES:Community
LOCATION:Venue 68\, 212 W Main St\, Lebanon\, KY/Marion\, 40033\, United St
 ates
X-APPLE-STRUCTURED-LOCATION;VALUE=URI;X-ADDRESS=212 W Main St\, Lebanon\, K
 Y/Marion\, 40033\, United States;X-APPLE-RADIUS=100;X-TITLE=Venue 68:geo:0
 ,0
END:VEVENT
BEGIN:VTIMEZONE
TZID:America/Kentucky/Louisville
X-LIC-LOCATION:America/Kentucky/Louisville
BEGIN:DAYLIGHT
DTSTART:20260308T030000
TZOFFSETFROM:-0500
TZOFFSETTO:-0400
TZNAME:EDT
END:DAYLIGHT
END:VTIMEZONE
END:VCALENDAR