BEGIN:VCALENDAR
VERSION:2.0
PRODID:-//wp-events-plugin.com//7.2.3.1//EN
BEGIN:VEVENT
UID:8319@visitlebanonky.com
DTSTART;TZID=America/Kentucky/Louisville:20251205T180000
DTEND;TZID=America/Kentucky/Louisville:20251206T200000
DTSTAMP:20251110T220058Z
URL:https://visitlebanonky.com/events/wont-you-guide-my-sleigh/
SUMMARY:Won't You Guide My Sleigh
DESCRIPTION:CKT Performing Arts Academy Presents: "Won't You Guide My Sleig
 h?" An original showcase highlighting the talented students of our Fall 25
  Academy just in time for Christmas! When Santa takes a milk and cookie br
 eak\, 5 kids are left waiting in line to see him and are in desperate need
  of some Christmas cheer. Just then\, Sam\, a wisecracking  snowman appear
 s to tell the children the story of Santa's legendary reindeer who we'll c
 all "Blinky!" (for obvious copyright reasons). The children are transporte
 d to the North Pole to see Blinky's incredible\, somewhat silly\, story un
 fold before their eyes. Told through dance\, scenes\, and song this hilari
 ous spin on a Christmas classic is the perfect remedy for a lack of Christ
 mas Cheer this Holiday season! After the performance on Dec 5 - come see o
 ur students in the Springfield Christmas Parade!\nTickets: $5 at the Door 
 or Online HERE\nFollow Central Kentucky Theatre on Facebook HERE\nWebsite 
 HERE\n 
ATTACH;FMTTYPE=image/jpeg:https://visitlebanonky.com/wp-content/uploads/20
 25/11/WONT-YOU-GUIDE-MY-SLEIGH.jpg
CATEGORIES:Official
LOCATION:Springfield Opera House\, 124 W. Main St.\, Springfield\, Kentucky
 \, 40069\, Washington County\, United States
GEO:37.685307;-85.222427
X-APPLE-STRUCTURED-LOCATION;VALUE=URI;X-ADDRESS=124 W. Main St.\, Springfie
 ld\, Kentucky\, 40069\, Washington County\, United States;X-APPLE-RADIUS=1
 00;X-TITLE=Springfield Opera House:geo:37.685307,-85.222427
END:VEVENT
BEGIN:VTIMEZONE
TZID:America/Kentucky/Louisville
X-LIC-LOCATION:America/Kentucky/Louisville
BEGIN:STANDARD
DTSTART:20251102T010000
TZOFFSETFROM:-0400
TZOFFSETTO:-0500
TZNAME:EST
END:STANDARD
END:VTIMEZONE
END:VCALENDAR