BEGIN:VCALENDAR
VERSION:2.0
PRODID:-//wp-events-plugin.com//7.2.3.1//EN
BEGIN:VEVENT
UID:8875@visitlebanonky.com
DTSTART;TZID=America/Kentucky/Louisville:20260307T000000
DTEND;TZID=America/Kentucky/Louisville:20260307T000000
DTSTAMP:20260219T141018Z
URL:https://visitlebanonky.com/events/woodlawn-baptist-breakfast-and-bible
 -study/
SUMMARY:Woodlawn Baptist Breakfast and Bible Study
DESCRIPTION:Start your morning with faith\, fellowship\, and a great breakf
 ast!\nWoodlawn Baptist Church invites all men and women to join us on Marc
 h 7 at the Country Store Restaurant for a special time of food and Bible s
 tudy.\nMen will gather at 7:30 AM and Women at 9:00 AM. Come hungry — no
 t just for breakfast\, but for God’s Word!\n📖 “For where two or thr
 ee gather in my name\, there am I with them.” – Matthew 18:20\nPlease 
 message HERE to let us know if you plan to attend. We can’t wait to see 
 you there!
ATTACH;FMTTYPE=image/jpeg:https://visitlebanonky.com/wp-content/uploads/20
 26/02/woodlawn.jpg
CATEGORIES:Community
LOCATION:Country Store Restaurant\, 205 W Main St\, Bradfordsville\, Kentuc
 ky\, 40009\, Marion County\, United States
GEO:37.494976;-85.147883
X-APPLE-STRUCTURED-LOCATION;VALUE=URI;X-ADDRESS=205 W Main St\, Bradfordsvi
 lle\, Kentucky\, 40009\, Marion County\, United States;X-APPLE-RADIUS=100;
 X-TITLE=Country Store Restaurant:geo:37.494976,-85.147883
END:VEVENT
BEGIN:VTIMEZONE
TZID:America/Kentucky/Louisville
X-LIC-LOCATION:America/Kentucky/Louisville
BEGIN:STANDARD
DTSTART:20251102T010000
TZOFFSETFROM:-0400
TZOFFSETTO:-0500
TZNAME:EST
END:STANDARD
END:VTIMEZONE
END:VCALENDAR