BEGIN:VCALENDAR
VERSION:2.0
PRODID:-//wp-events-plugin.com//7.2.3.1//EN
BEGIN:VEVENT
UID:6594@visitlebanonky.com
DTSTART;TZID=America/Kentucky/Louisville:20241222T110000
DTEND;TZID=America/Kentucky/Louisville:20241222T120000
DTSTAMP:20241210T014605Z
URL:https://visitlebanonky.com/events/woodlawn-baptist-church-christmas-ca
 ntata/
SUMMARY:Woodlawn Baptist Church Christmas Cantata
DESCRIPTION:Mark your calendar 🗓️ 🎄❤️\nOur Christmas Cantata wi
 ll be held on December 22! Everyone is invited to attend- we are so excite
 d to spread the word in music 🎵 
ATTACH;FMTTYPE=image/jpeg:https://visitlebanonky.com/wp-content/uploads/20
 24/12/woodlawn.jpg
CATEGORIES:Community
LOCATION:Woodlawn Baptist Church\, 341 Hood Avenue\, Lebanon\, Kentucky\, 4
 0033\, Marion County\, United States
GEO:37.574539;-85.250422
X-APPLE-STRUCTURED-LOCATION;VALUE=URI;X-ADDRESS=341 Hood Avenue\, Lebanon\,
  Kentucky\, 40033\, Marion County\, United States;X-APPLE-RADIUS=100;X-TIT
 LE=Woodlawn Baptist Church:geo:37.574539,-85.250422
END:VEVENT
BEGIN:VTIMEZONE
TZID:America/Kentucky/Louisville
X-LIC-LOCATION:America/Kentucky/Louisville
BEGIN:STANDARD
DTSTART:20241103T010000
TZOFFSETFROM:-0400
TZOFFSETTO:-0500
TZNAME:EST
END:STANDARD
END:VTIMEZONE
END:VCALENDAR