BEGIN:VCALENDAR
VERSION:2.0
PRODID:-//wp-events-plugin.com//7.2.3.1//EN
BEGIN:VEVENT
UID:9068@visitlebanonky.com
DTSTART;TZID=America/Kentucky/Louisville:20260405T070000
DTEND;TZID=America/Kentucky/Louisville:20260405T113000
DTSTAMP:20260319T035132Z
URL:https://visitlebanonky.com/events/woodlawn-baptist-easter-services/
SUMMARY:Woodlawn Baptist Easter Services
DESCRIPTION:🌅✝️ He is Risen! Join Us This Easter at Woodlawn Baptist
  Church ✝️🌅\nCome celebrate the hope\, joy\, and victory of our ris
 en Savior this Easter Sunday!\n✨ Sunrise Service – 7:00 AM\n🍽️ Br
 eakfast Fellowship – Between Services\n🙏 Morning Worship Service – 
 10:00 AM\n“There is an empty tomb… and a full heart because He lives!
 ”\nBring your family\, invite a friend\, and come experience a beautiful
  morning of worship\, fellowship\, and celebration as we rejoice in the re
 surrection of Jesus Christ.\n💐 We would love to welcome you this Easter
  at Woodlawn Baptist Church! \nFollow on Facebook  HERE  
ATTACH;FMTTYPE=image/jpeg:https://visitlebanonky.com/wp-content/uploads/20
 26/03/woodlawn.jpg
CATEGORIES:Community
LOCATION:Woodlawn Baptist Church\, 341 Hood Avenue\, Lebanon\, Kentucky\, 4
 0033\, Marion County\, United States
GEO:37.574539;-85.250422
X-APPLE-STRUCTURED-LOCATION;VALUE=URI;X-ADDRESS=341 Hood Avenue\, Lebanon\,
  Kentucky\, 40033\, Marion County\, United States;X-APPLE-RADIUS=100;X-TIT
 LE=Woodlawn Baptist Church:geo:37.574539,-85.250422
END:VEVENT
BEGIN:VTIMEZONE
TZID:America/Kentucky/Louisville
X-LIC-LOCATION:America/Kentucky/Louisville
BEGIN:DAYLIGHT
DTSTART:20260308T030000
TZOFFSETFROM:-0500
TZOFFSETTO:-0400
TZNAME:EDT
END:DAYLIGHT
END:VTIMEZONE
END:VCALENDAR