BEGIN:VCALENDAR
VERSION:2.0
PRODID:-//wp-events-plugin.com//7.2.3.1//EN
BEGIN:VEVENT
UID:8935@visitlebanonky.com
DTSTART;TZID=America/Kentucky/Louisville:20260804T110000
DTEND;TZID=America/Kentucky/Louisville:20260804T160000
DTSTAMP:20260301T185725Z
URL:https://visitlebanonky.com/events/workforce-community-orientation-prog
 ram-6/
SUMMARY:Workforce Community Orientation Program
DESCRIPTION:Find more information HERE \nFor this and other events you can 
 follow on Facebook HERE
ATTACH;FMTTYPE=image/jpeg:https://visitlebanonky.com/wp-content/uploads/20
 26/03/workforce.jpg
CATEGORIES:Community
LOCATION:Marion County Historical Society\, 115 S Proctor Knott Ave\, Leban
 on\, Kentucky\, 40033\, Marion County\, United States
GEO:37.568729;-85.253822
X-APPLE-STRUCTURED-LOCATION;VALUE=URI;X-ADDRESS=115 S Proctor Knott Ave\, L
 ebanon\, Kentucky\, 40033\, Marion County\, United States;X-APPLE-RADIUS=1
 00;X-TITLE=Marion County Historical Society:geo:37.568729,-85.253822
END:VEVENT
BEGIN:VTIMEZONE
TZID:America/Kentucky/Louisville
X-LIC-LOCATION:America/Kentucky/Louisville
BEGIN:DAYLIGHT
DTSTART:20260308T030000
TZOFFSETFROM:-0500
TZOFFSETTO:-0400
TZNAME:EDT
END:DAYLIGHT
END:VTIMEZONE
END:VCALENDAR