BEGIN:VCALENDAR
VERSION:2.0
PRODID:-//wp-events-plugin.com//7.2.3.1//EN
BEGIN:VEVENT
UID:9062@visitlebanonky.com
DTSTART;TZID=America/Kentucky/Louisville:20260418T090000
DTEND;TZID=America/Kentucky/Louisville:20260418T130000
DTSTAMP:20260327T170745Z
URL:https://visitlebanonky.com/events/working-the-puzzle-for-autism-walk-3
 /
SUMMARY:Working the Puzzle for Autism Walk
DESCRIPTION:The 16th annual autism awareness walk and recognition ceremony 
 will be on April 18 from 9 a.m. until 1 p.m. We will recognize individuals
  on the autism spectrum at 9:30 a.m. You can pre-register (which is best) 
 or register the day of the event from 9-9:30 a.m. There will be a registra
 tion for special prizes including laptops\, ipad\, airpods and charger and
  t-shirt sales. Kids games including balloons by Theia and face painting b
 y Kra Z Paint Party. A single $5 bracelet gets you unlimited activities fo
 r the day. There will be a performance by MeKenzie Gadberry and the MC Cat
 tleman will be cooking. There will be a silent auction with lots of great 
 items. All proceeds go to our Autism Center and activities throughout the 
 year. Contact Lisa Nalley Martin for more information and to order shirts 
 in advance. You can find this event on Facebook HERE
ATTACH;FMTTYPE=image/jpeg:https://visitlebanonky.com/wp-content/uploads/20
 26/03/autism-1.jpg
CATEGORIES:Community
LOCATION:Graham Memorial Park\, 525 Graham Memorial Drive\, Lebanon\, Kentu
 cky\, 40033\, Marion County\, United States
GEO:37.562057;-85.249356
X-APPLE-STRUCTURED-LOCATION;VALUE=URI;X-ADDRESS=525 Graham Memorial Drive\,
  Lebanon\, Kentucky\, 40033\, Marion County\, United States;X-APPLE-RADIUS
 =100;X-TITLE=Graham Memorial Park:geo:37.562057,-85.249356
END:VEVENT
BEGIN:VTIMEZONE
TZID:America/Kentucky/Louisville
X-LIC-LOCATION:America/Kentucky/Louisville
BEGIN:DAYLIGHT
DTSTART:20260308T030000
TZOFFSETFROM:-0500
TZOFFSETTO:-0400
TZNAME:EDT
END:DAYLIGHT
END:VTIMEZONE
END:VCALENDAR