BEGIN:VCALENDAR
VERSION:2.0
PRODID:-//wp-events-plugin.com//7.2.3.1//EN
BEGIN:VEVENT
UID:8439@visitlebanonky.com
DTSTART;TZID=America/Kentucky/Louisville:20251228T160000
DTEND;TZID=America/Kentucky/Louisville:20251229T180000
DTSTAMP:20251209T012255Z
URL:https://visitlebanonky.com/events/youth-basketball-league-sign-ups-in-
 bradfordsville-3/
SUMMARY:Youth Basketball League Sign-ups in Bradfordsville
DESCRIPTION:Basketball sign-ups will be December 14\, 21\, 28\, and 29 from
  4-6 p.m. at the Bradfordsville School Community Building.\nPre K- 1st\n2n
 d- 3rd grade\n4th-5th Grade.\nFees are $25 for 1 child. $40 for two and $5
 0 for 3 or more children.\nThere will be no online sign-up this year. All 
 practices and games are at the Bradfordsville School Community Building.\n
 You can follow the league on Facebook HERE
CATEGORIES:Community
LOCATION:Old Bradfordsville School Building\, 115 S 6th Street\, Bradfordsv
 ille\, Kentucky\, 40009\, United States
GEO:37.491772;-85.147819
X-APPLE-STRUCTURED-LOCATION;VALUE=URI;X-ADDRESS=115 S 6th Street\, Bradford
 sville\, Kentucky\, 40009\, United States;X-APPLE-RADIUS=100;X-TITLE=Old B
 radfordsville School Building:geo:37.491772,-85.147819
END:VEVENT
BEGIN:VTIMEZONE
TZID:America/Kentucky/Louisville
X-LIC-LOCATION:America/Kentucky/Louisville
BEGIN:STANDARD
DTSTART:20251102T010000
TZOFFSETFROM:-0400
TZOFFSETTO:-0500
TZNAME:EST
END:STANDARD
END:VTIMEZONE
END:VCALENDAR