BEGIN:VCALENDAR
VERSION:2.0
PRODID:-//wp-events-plugin.com//7.2.3.1//EN
BEGIN:VEVENT
UID:7633@visitlebanonky.com
DTSTART;TZID=America/Kentucky/Louisville:20250605T130000
DTEND;TZID=America/Kentucky/Louisville:20250605T160000
DTSTAMP:20250529T051133Z
URL:https://visitlebanonky.com/events/youth-career-and-resource-job-fair/
SUMMARY:Youth Career and Resource Job Fair
DESCRIPTION:Lebanon/Marion County Career Center to Host Youth Career & Reso
 urce Fair\nThe Lebanon/Marion County Career Center is inviting young gradu
 ates and job seekers to its upcoming Youth Career and Resource Fair — an
  event designed to connect youth with local career opportunities in Marion
  and Washington counties.\nThe fair will take place on Thursday\, June 5\,
  from 1:00 PM to 4:00 PM at the Lebanon/Marion County Career Center\, loca
 ted at 516 Workshop Lane\, Lebanon\, KY 40033.\nOrganizers encourage atten
 dees to fill out the registration form in advance to reserve a spot or cal
 l  (270) 692-6870 and ask for Terri Thomas  \nThis event offers a great ch
 ance for recent graduates and young adults to meet with local employers\, 
 explore career options\, and access helpful resources to launch their care
 ers close to home.
ATTACH;FMTTYPE=image/jpeg:https://visitlebanonky.com/wp-content/uploads/20
 25/05/caps-off.jpg
CATEGORIES:Community
LOCATION:Lebanon-Marion County Career Center\, 516 Workshop Lane\, Lebanon\
 , Kentucky\, 40033\, Marion County\, United States
GEO:37.580811;-85.253393
X-APPLE-STRUCTURED-LOCATION;VALUE=URI;X-ADDRESS=516 Workshop Lane\, Lebanon
 \, Kentucky\, 40033\, Marion County\, United States;X-APPLE-RADIUS=100;X-T
 ITLE=Lebanon-Marion County Career Center:geo:37.580811,-85.253393
END:VEVENT
BEGIN:VTIMEZONE
TZID:America/Kentucky/Louisville
X-LIC-LOCATION:America/Kentucky/Louisville
BEGIN:DAYLIGHT
DTSTART:20250309T030000
TZOFFSETFROM:-0500
TZOFFSETTO:-0400
TZNAME:EDT
END:DAYLIGHT
END:VTIMEZONE
END:VCALENDAR