BEGIN:VCALENDAR
VERSION:2.0
PRODID:-//wp-events-plugin.com//7.2.3.1//EN
BEGIN:VEVENT
UID:8655@visitlebanonky.com
DTSTART;TZID=America/Kentucky/Louisville:20260327T183000
DTEND;TZID=America/Kentucky/Louisville:20260327T203000
DTSTAMP:20260122T195000Z
URL:https://visitlebanonky.com/events/youth-group-3/
SUMMARY:Youth Group
DESCRIPTION:Follow on Facebook HERE
ATTACH;FMTTYPE=image/jpeg:https://visitlebanonky.com/wp-content/uploads/20
 26/01/YOUTH-GROUP.jpg
CATEGORIES:Community
LOCATION:St. Francis Xavier Catholic Church Parish Hall\, 108 Main St.\, Ra
 ywick\, Kentucky\, 40060\, Marion County\, United States
GEO:37.561224;-85.431009
X-APPLE-STRUCTURED-LOCATION;VALUE=URI;X-ADDRESS=108 Main St.\, Raywick\, Ke
 ntucky\, 40060\, Marion County\, United States;X-APPLE-RADIUS=100;X-TITLE=
 St. Francis Xavier Catholic Church Parish Hall:geo:37.561224,-85.431009
END:VEVENT
BEGIN:VTIMEZONE
TZID:America/Kentucky/Louisville
X-LIC-LOCATION:America/Kentucky/Louisville
BEGIN:DAYLIGHT
DTSTART:20260308T030000
TZOFFSETFROM:-0500
TZOFFSETTO:-0400
TZNAME:EDT
END:DAYLIGHT
END:VTIMEZONE
END:VCALENDAR