BEGIN:VCALENDAR
VERSION:2.0
PRODID:-//wp-events-plugin.com//7.2.3.1//EN
BEGIN:VEVENT
UID:7877@visitlebanonky.com
DTSTART;TZID=America/Kentucky/Louisville:20250812T000000
DTEND;TZID=America/Kentucky/Louisville:20250823T000000
DTSTAMP:20250812T151430Z
URL:https://visitlebanonky.com/events/youth-performance-classes-for-the-be
 st-christmas-pageant-ever/
SUMMARY:Youth Performance Classes for "The Best Christmas Pageant Ever"
DESCRIPTION:Sign-ups for our next youth performance classes are opening Aug
 ust 18. Space is limited so make sure to register your student so they can
  be a part of “The Best Christmas Pageant Ever!”\nAges: 7–18\nTwo Cl
 ass Options:\nMon & Wed | 4:00–5:30 PM\nTue & Thu | 4:00–5:30 PM\nTuit
 ion: $175\nIncludes 2 parent tickets + show T-shirt\nRehearsals Begin: Wee
 k of September 8\nPerformances in December\nNo rehearsals during Fall Brea
 k or Thanksgiving Break\nSpots fill fast — mark your calendar for August
  18 \n(Have a little elf that’s not quite 7 yet? Please keep an eye out 
 for a special class just for them coming later in the school year…it wil
 l still allow them to be a part of this production)
ATTACH;FMTTYPE=image/jpeg:https://visitlebanonky.com/wp-content/uploads/20
 25/08/best-christmas-e1755011765335.jpg
CATEGORIES:Official
LOCATION:Kentucky Classic ARTS at Centre Square\, 237 North Spalding Avenue
 \, Lebanon\, KY\, 40033\, United States
X-APPLE-STRUCTURED-LOCATION;VALUE=URI;X-ADDRESS=237 North Spalding Avenue\,
  Lebanon\, KY\, 40033\, United States;X-APPLE-RADIUS=100;X-TITLE=Kentucky 
 Classic ARTS at Centre Square:geo:0,0
END:VEVENT
BEGIN:VTIMEZONE
TZID:America/Kentucky/Louisville
X-LIC-LOCATION:America/Kentucky/Louisville
BEGIN:DAYLIGHT
DTSTART:20250309T030000
TZOFFSETFROM:-0500
TZOFFSETTO:-0400
TZNAME:EDT
END:DAYLIGHT
END:VTIMEZONE
END:VCALENDAR