BEGIN:VCALENDAR
VERSION:2.0
PRODID:-//wp-events-plugin.com//7.2.3.1//EN
BEGIN:VEVENT
UID:7609@visitlebanonky.com
DTSTART;TZID=America/Kentucky/Louisville:20250610T180000
DTEND;TZID=America/Kentucky/Louisville:20250612T200000
DTSTAMP:20250520T030242Z
URL:https://visitlebanonky.com/events/youth-soccer-camp/
SUMMARY:Youth Soccer Camp
DESCRIPTION:Follow on Facebook for more information and a link to apply at 
 https://www.facebook.com/MCKnightsSoccer
ATTACH;FMTTYPE=image/jpeg:https://visitlebanonky.com/wp-content/uploads/20
 25/05/soccer-camp.jpg
CATEGORIES:Community
LOCATION:MCHS Soccer Field\, Patriot Drive\, Lebanon\, Kentucky\, 40033\, M
 arion County\, United States
GEO:37.577867;-85.231108
X-APPLE-STRUCTURED-LOCATION;VALUE=URI;X-ADDRESS=Patriot Drive\, Lebanon\, K
 entucky\, 40033\, Marion County\, United States;X-APPLE-RADIUS=100;X-TITLE
 =MCHS Soccer Field:geo:37.577867,-85.231108
END:VEVENT
BEGIN:VTIMEZONE
TZID:America/Kentucky/Louisville
X-LIC-LOCATION:America/Kentucky/Louisville
BEGIN:DAYLIGHT
DTSTART:20250309T030000
TZOFFSETFROM:-0500
TZOFFSETTO:-0400
TZNAME:EDT
END:DAYLIGHT
END:VTIMEZONE
END:VCALENDAR