BEGIN:VCALENDAR
VERSION:2.0
PRODID:-//wp-events-plugin.com//7.2.3.1//EN
BEGIN:VEVENT
UID:7545@visitlebanonky.com
DTSTART;TZID=America/Kentucky/Louisville:20250602T090000
DTEND;TZID=America/Kentucky/Louisville:20250604T120000
DTSTAMP:20250425T164429Z
URL:https://visitlebanonky.com/events/youth-volleyball-players-basic-skill
 s-camp/
SUMMARY:Youth Volleyball Players Basic Skills Camp
DESCRIPTION: 
ATTACH;FMTTYPE=image/jpeg:https://visitlebanonky.com/wp-content/uploads/20
 25/04/volleyball.jpg
CATEGORIES:Community
LOCATION:Marion County High School\, 735 E. Main St.\, Lebanon\, KY/ Marion
 \, 40033\, Marion County\, United States
X-APPLE-STRUCTURED-LOCATION;VALUE=URI;X-ADDRESS=735 E. Main St.\, Lebanon\,
  KY/ Marion\, 40033\, Marion County\, United States;X-APPLE-RADIUS=100;X-T
 ITLE=Marion County High School:geo:0,0
END:VEVENT
BEGIN:VTIMEZONE
TZID:America/Kentucky/Louisville
X-LIC-LOCATION:America/Kentucky/Louisville
BEGIN:DAYLIGHT
DTSTART:20250309T030000
TZOFFSETFROM:-0500
TZOFFSETTO:-0400
TZNAME:EDT
END:DAYLIGHT
END:VTIMEZONE
END:VCALENDAR